Package: compcodeR Version: 1.47.0 Command: /home/biocbuild/bbs-3.23-bioc/R/bin/R CMD check --install=check:compcodeR.install-out.txt --library=/home/biocbuild/bbs-3.23-bioc/R/site-library --timings compcodeR_1.47.0.tar.gz StartedAt: 2025-10-31 22:12:21 -0400 (Fri, 31 Oct 2025) EndedAt: 2025-10-31 22:17:41 -0400 (Fri, 31 Oct 2025) EllapsedTime: 320.4 seconds RetCode: 0 Status: OK CheckDir: compcodeR.Rcheck Warnings: 0