Package: compcodeR Version: 1.47.0 Command: /home/biocbuild/bbs-3.23-bioc/R/bin/R CMD build --keep-empty-dirs --no-resave-data compcodeR StartedAt: 2025-10-31 17:09:47 -0400 (Fri, 31 Oct 2025) EndedAt: 2025-10-31 17:10:09 -0400 (Fri, 31 Oct 2025) EllapsedTime: 22.0 seconds RetCode: 0 Status: OK PackageFile: compcodeR_1.47.0.tar.gz PackageFileSize: 4.743 MiB