Package: compSPOT Version: 1.7.0 Command: /home/biocbuild/R/R/bin/R CMD check --install=check:compSPOT.install-out.txt --library=/home/biocbuild/R/R/site-library --no-vignettes --timings compSPOT_1.7.0.tar.gz StartedAt: 2025-10-21 06:46:51 -0000 (Tue, 21 Oct 2025) EndedAt: 2025-10-21 06:51:34 -0000 (Tue, 21 Oct 2025) EllapsedTime: 283.2 seconds RetCode: 0 Status: OK CheckDir: compSPOT.Rcheck Warnings: 0