Package: compSPOT Version: 1.9.0 Command: /home/biocbuild/bbs-3.23-bioc/R/bin/R CMD INSTALL compSPOT StartedAt: 2025-10-31 15:17:39 -0400 (Fri, 31 Oct 2025) EndedAt: 2025-10-31 15:17:53 -0400 (Fri, 31 Oct 2025) EllapsedTime: 13.5 seconds RetCode: 0 Status: OK