Package: compSPOT Version: 1.9.0 Command: /home/biocbuild/bbs-3.23-bioc/R/bin/R CMD check --install=check:compSPOT.install-out.txt --library=/home/biocbuild/bbs-3.23-bioc/R/site-library --timings compSPOT_1.9.0.tar.gz StartedAt: 2025-10-31 22:14:14 -0400 (Fri, 31 Oct 2025) EndedAt: 2025-10-31 22:17:36 -0400 (Fri, 31 Oct 2025) EllapsedTime: 202.3 seconds RetCode: 0 Status: OK CheckDir: compSPOT.Rcheck Warnings: 0