Package: combi Version: 1.23.0 Command: /home/biocbuild/bbs-3.23-bioc/R/bin/R CMD INSTALL combi StartedAt: 2025-11-05 15:57:02 -0500 (Wed, 05 Nov 2025) EndedAt: 2025-11-05 15:57:35 -0500 (Wed, 05 Nov 2025) EllapsedTime: 33.2 seconds RetCode: 0 Status: OK