Package: combi Version: 1.23.0 Command: /home/biocbuild/bbs-3.23-bioc/R/bin/R CMD build --keep-empty-dirs --no-resave-data combi StartedAt: 2025-11-05 16:59:57 -0500 (Wed, 05 Nov 2025) EndedAt: 2025-11-05 17:01:52 -0500 (Wed, 05 Nov 2025) EllapsedTime: 115.1 seconds RetCode: 0 Status: OK PackageFile: combi_1.23.0.tar.gz PackageFileSize: 1.408 MiB