Package: combi Version: 1.21.0 Command: /Library/Frameworks/R.framework/Resources/bin/R CMD build --keep-empty-dirs --no-resave-data combi StartedAt: 2025-10-10 16:36:50 -0400 (Fri, 10 Oct 2025) EndedAt: 2025-10-10 16:40:51 -0400 (Fri, 10 Oct 2025) EllapsedTime: 241.6 seconds RetCode: 0 Status: OK PackageFile: combi_1.21.0.tar.gz PackageFileSize: 1.496 MiB