Package: combi Version: 1.21.0 Maintainer: Stijn Hawinkel MaintainerEmail: stijn.hawinkel at psb.ugent.be git_url: https://git.bioconductor.org/packages/combi git_branch: devel git_last_commit: a963592 git_last_commit_date: 2025-04-15 11:56:05 -0400 (Tue, 15 Apr 2025)