Package: comapr Version: 1.13.0 Command: /home/biocbuild/bbs-3.22-bioc/R/bin/R CMD check --install=check:comapr.install-out.txt --library=/home/biocbuild/bbs-3.22-bioc/R/site-library --timings comapr_1.13.0.tar.gz StartedAt: 2025-10-12 22:25:21 -0400 (Sun, 12 Oct 2025) EndedAt: 2025-10-12 22:32:54 -0400 (Sun, 12 Oct 2025) EllapsedTime: 453.5 seconds RetCode: 1 Status: ERROR CheckDir: comapr.Rcheck Warnings: NA