Package: comapr Version: 1.15.0 Command: /home/biocbuild/bbs-3.23-bioc/R/bin/R CMD INSTALL comapr StartedAt: 2025-11-04 15:45:01 -0500 (Tue, 04 Nov 2025) EndedAt: 2025-11-04 15:45:53 -0500 (Tue, 04 Nov 2025) EllapsedTime: 52.4 seconds RetCode: 0 Status: OK