Package: comapr Version: 1.15.0 Command: /home/biocbuild/bbs-3.23-bioc/R/bin/R CMD build --keep-empty-dirs --no-resave-data comapr StartedAt: 2025-11-04 16:52:17 -0500 (Tue, 04 Nov 2025) EndedAt: 2025-11-04 16:53:41 -0500 (Tue, 04 Nov 2025) EllapsedTime: 84.1 seconds RetCode: 0 Status: OK PackageFile: comapr_1.15.0.tar.gz PackageFileSize: 1.01 MiB