Package: cola Version: 2.17.0 Command: /home/biocbuild/bbs-3.23-bioc/R/bin/R CMD INSTALL cola StartedAt: 2025-11-20 15:14:12 -0500 (Thu, 20 Nov 2025) EndedAt: 2025-11-20 15:14:42 -0500 (Thu, 20 Nov 2025) EllapsedTime: 30.2 seconds RetCode: 0 Status: OK