Package: cola Version: 2.17.0 Command: /Library/Frameworks/R.framework/Resources/bin/R CMD INSTALL cola StartedAt: 2025-11-20 15:21:23 -0500 (Thu, 20 Nov 2025) EndedAt: 2025-11-20 15:22:05 -0500 (Thu, 20 Nov 2025) EllapsedTime: 42.1 seconds RetCode: 0 Status: OK