Package: cola Version: 2.17.0 Command: /Library/Frameworks/R.framework/Resources/bin/R CMD build --keep-empty-dirs --no-resave-data cola StartedAt: 2025-11-20 16:32:53 -0500 (Thu, 20 Nov 2025) EndedAt: 2025-11-20 16:33:32 -0500 (Thu, 20 Nov 2025) EllapsedTime: 38.9 seconds RetCode: 0 Status: OK PackageFile: cola_2.17.0.tar.gz PackageFileSize: 3.658 MiB