Package: cola Version: 2.17.0 Command: rm -rf cola.buildbin-libdir && mkdir cola.buildbin-libdir && /Users/biocbuild/BBS/utils/build-universal.sh cola_2.17.0.tar.gz /Library/Frameworks/R.framework/Resources/bin/R cola.buildbin-libdir StartedAt: 2025-11-21 01:27:48 -0500 (Fri, 21 Nov 2025) EndedAt: 2025-11-21 01:28:33 -0500 (Fri, 21 Nov 2025) EllapsedTime: 44.9 seconds RetCode: 0 Status: OK PackageFile: cola_2.17.0.tgz PackageFileSize: 4.632 MiB