Package: cogena Version: 1.43.0 Command: /home/biocbuild/R/R/bin/R CMD build --keep-empty-dirs --no-resave-data cogena StartedAt: 2025-10-20 22:51:14 -0000 (Mon, 20 Oct 2025) EndedAt: 2025-10-20 22:55:07 -0000 (Mon, 20 Oct 2025) EllapsedTime: 233.1 seconds RetCode: 0 Status: OK PackageFile: cogena_1.43.0.tar.gz PackageFileSize: 6.41 MiB