Package: cogena Version: 1.45.0 Command: /home/biocbuild/bbs-3.23-bioc/R/bin/R CMD check --install=check:cogena.install-out.txt --library=/home/biocbuild/bbs-3.23-bioc/R/site-library --timings cogena_1.45.0.tar.gz StartedAt: 2025-11-21 22:15:56 -0500 (Fri, 21 Nov 2025) EndedAt: 2025-11-21 22:21:53 -0500 (Fri, 21 Nov 2025) EllapsedTime: 357.6 seconds RetCode: 0 Status: WARNINGS CheckDir: cogena.Rcheck Warnings: 1