Package: cogena Version: 1.45.0 Command: /home/biocbuild/bbs-3.23-bioc/R/bin/R CMD build --keep-empty-dirs --no-resave-data cogena StartedAt: 2025-11-20 16:55:03 -0500 (Thu, 20 Nov 2025) EndedAt: 2025-11-20 16:57:38 -0500 (Thu, 20 Nov 2025) EllapsedTime: 155.2 seconds RetCode: 0 Status: OK PackageFile: cogena_1.45.0.tar.gz PackageFileSize: 7.332 MiB