Package: codelink Version: 1.77.0 Command: /home/biocbuild/R/R/bin/R CMD INSTALL codelink StartedAt: 2025-10-02 20:55:07 -0000 (Thu, 02 Oct 2025) EndedAt: 2025-10-02 20:55:32 -0000 (Thu, 02 Oct 2025) EllapsedTime: 24.5 seconds RetCode: 0 Status: OK