Package: codelink Version: 1.77.0 Command: /home/biocbuild/R/R/bin/R CMD build --keep-empty-dirs --no-resave-data codelink StartedAt: 2025-10-02 22:55:36 -0000 (Thu, 02 Oct 2025) EndedAt: 2025-10-02 22:56:33 -0000 (Thu, 02 Oct 2025) EllapsedTime: 57.1 seconds RetCode: 0 Status: OK PackageFile: codelink_1.77.0.tar.gz PackageFileSize: 3.171 MiB