Package: codelink Version: 1.79.0 Command: /home/biocbuild/bbs-3.23-bioc/R/bin/R CMD INSTALL codelink StartedAt: 2025-11-02 15:39:11 -0500 (Sun, 02 Nov 2025) EndedAt: 2025-11-02 15:39:28 -0500 (Sun, 02 Nov 2025) EllapsedTime: 16.9 seconds RetCode: 0 Status: OK