Package: codelink Version: 1.79.0 Command: /home/biocbuild/bbs-3.23-bioc/R/bin/R CMD check --install=check:codelink.install-out.txt --library=/home/biocbuild/bbs-3.23-bioc/R/site-library --timings codelink_1.79.0.tar.gz StartedAt: 2025-10-31 22:10:15 -0400 (Fri, 31 Oct 2025) EndedAt: 2025-10-31 22:12:21 -0400 (Fri, 31 Oct 2025) EllapsedTime: 126.2 seconds RetCode: 0 Status: OK CheckDir: codelink.Rcheck Warnings: 0