Package: codelink Version: 1.79.0 Command: /home/biocbuild/bbs-3.23-bioc/R/bin/R CMD build --keep-empty-dirs --no-resave-data codelink StartedAt: 2025-10-31 17:08:11 -0400 (Fri, 31 Oct 2025) EndedAt: 2025-10-31 17:08:42 -0400 (Fri, 31 Oct 2025) EllapsedTime: 31.0 seconds RetCode: 0 Status: OK PackageFile: codelink_1.79.0.tar.gz PackageFileSize: 3.181 MiB