Package: coRdon Version: 1.29.0 Command: /home/biocbuild/bbs-3.23-bioc/R/bin/R CMD INSTALL coRdon StartedAt: 2025-11-20 15:14:42 -0500 (Thu, 20 Nov 2025) EndedAt: 2025-11-20 15:14:59 -0500 (Thu, 20 Nov 2025) EllapsedTime: 16.6 seconds RetCode: 0 Status: OK