Package: coRdon Version: 1.29.0 Command: /home/biocbuild/bbs-3.23-bioc/R/bin/R CMD build --keep-empty-dirs --no-resave-data coRdon StartedAt: 2025-11-20 16:58:12 -0500 (Thu, 20 Nov 2025) EndedAt: 2025-11-20 17:05:10 -0500 (Thu, 20 Nov 2025) EllapsedTime: 418.3 seconds RetCode: 0 Status: OK PackageFile: coRdon_1.29.0.tar.gz PackageFileSize: 2.2 MiB