Package: coRdon Version: 1.29.0 Command: /Library/Frameworks/R.framework/Resources/bin/R CMD INSTALL coRdon StartedAt: 2025-11-21 15:21:58 -0500 (Fri, 21 Nov 2025) EndedAt: 2025-11-21 15:22:21 -0500 (Fri, 21 Nov 2025) EllapsedTime: 23.1 seconds RetCode: 0 Status: OK