Package: coRdon Version: 1.29.0 Command: /Library/Frameworks/R.framework/Resources/bin/R CMD build --keep-empty-dirs --no-resave-data coRdon StartedAt: 2025-11-20 16:34:54 -0500 (Thu, 20 Nov 2025) EndedAt: 2025-11-20 16:35:46 -0500 (Thu, 20 Nov 2025) EllapsedTime: 52.4 seconds RetCode: 0 Status: OK PackageFile: coRdon_1.29.0.tar.gz PackageFileSize: 2.266 MiB