Package: coRdon Version: 1.29.0 Command: rm -rf coRdon.buildbin-libdir && mkdir coRdon.buildbin-libdir && /Users/biocbuild/BBS/utils/build-universal.sh coRdon_1.29.0.tar.gz /Library/Frameworks/R.framework/Resources/bin/R coRdon.buildbin-libdir StartedAt: 2025-11-21 01:28:13 -0500 (Fri, 21 Nov 2025) EndedAt: 2025-11-21 01:28:40 -0500 (Fri, 21 Nov 2025) EllapsedTime: 26.5 seconds RetCode: 0 Status: OK PackageFile: coRdon_1.29.0.tgz PackageFileSize: 2.667 MiB