Package: coMethDMR Version: 1.15.0 Command: /home/biocbuild/bbs-3.23-bioc/R/bin/R CMD build --keep-empty-dirs --no-resave-data coMethDMR StartedAt: 2025-11-05 17:00:05 -0500 (Wed, 05 Nov 2025) EndedAt: 2025-11-05 17:04:04 -0500 (Wed, 05 Nov 2025) EllapsedTime: 238.2 seconds RetCode: 0 Status: OK PackageFile: coMethDMR_1.15.0.tar.gz PackageFileSize: 3.105 MiB