Package: coMethDMR Version: 1.13.0 Command: /Library/Frameworks/R.framework/Resources/bin/R CMD INSTALL coMethDMR StartedAt: 2025-10-22 15:39:31 -0400 (Wed, 22 Oct 2025) EndedAt: 2025-10-22 15:40:39 -0400 (Wed, 22 Oct 2025) EllapsedTime: 68.6 seconds RetCode: 0 Status: OK