Package: coMethDMR Version: 1.13.0 Command: rm -rf coMethDMR.buildbin-libdir && mkdir coMethDMR.buildbin-libdir && /Users/biocbuild/BBS/utils/build-universal.sh coMethDMR_1.13.0.tar.gz /Library/Frameworks/R.framework/Resources/bin/R coMethDMR.buildbin-libdir StartedAt: 2025-10-08 22:43:12 -0400 (Wed, 08 Oct 2025) EndedAt: 2025-10-08 22:43:34 -0400 (Wed, 08 Oct 2025) EllapsedTime: 21.4 seconds RetCode: 0 Status: OK PackageFile: coMethDMR_1.13.0.tgz PackageFileSize: 3.175 MiB