Package: coGPS Version: 1.55.0 Command: /home/biocbuild/bbs-3.23-bioc/R/bin/R CMD INSTALL coGPS StartedAt: 2025-11-20 15:02:11 -0500 (Thu, 20 Nov 2025) EndedAt: 2025-11-20 15:02:22 -0500 (Thu, 20 Nov 2025) EllapsedTime: 10.7 seconds RetCode: 0 Status: OK