Package: coGPS Version: 1.53.0 Command: /Library/Frameworks/R.framework/Resources/bin/R CMD INSTALL coGPS StartedAt: 2025-10-15 15:05:26 -0400 (Wed, 15 Oct 2025) EndedAt: 2025-10-15 15:06:08 -0400 (Wed, 15 Oct 2025) EllapsedTime: 42.4 seconds RetCode: 0 Status: OK