Package: coGPS Version: 1.53.0 Command: rm -rf coGPS.buildbin-libdir && mkdir coGPS.buildbin-libdir && /Users/biocbuild/BBS/utils/build-universal.sh coGPS_1.53.0.tar.gz /Library/Frameworks/R.framework/Resources/bin/R coGPS.buildbin-libdir StartedAt: 2025-10-16 02:46:49 -0400 (Thu, 16 Oct 2025) EndedAt: 2025-10-16 02:46:54 -0400 (Thu, 16 Oct 2025) EllapsedTime: 5.7 seconds RetCode: 0 Status: OK PackageFile: coGPS_1.53.0.tgz PackageFileSize: 1.787 MiB