Package: coGPS Version: 1.53.0 Command: rm -rf coGPS.buildbin-libdir && mkdir coGPS.buildbin-libdir && /Users/biocbuild/BBS/utils/build-universal.sh coGPS_1.53.0.tar.gz /Library/Frameworks/R.framework/Resources/bin/R coGPS.buildbin-libdir StartedAt: 2025-09-30 22:35:27 -0400 (Tue, 30 Sep 2025) EndedAt: 2025-09-30 22:35:29 -0400 (Tue, 30 Sep 2025) EllapsedTime: 2.0 seconds RetCode: 0 Status: OK PackageFile: coGPS_1.53.0.tgz PackageFileSize: 1.789 MiB