Package: coGPS Version: 1.55.0 Maintainer: Yingying Wei MaintainerEmail: ywei at jhsph.edu git_url: https://git.bioconductor.org/packages/coGPS git_branch: devel git_last_commit: b866584 git_last_commit_date: 2025-10-29 10:10:32 -0400 (Wed, 29 Oct 2025)