Package: cn.mops Version: 1.57.0 Command: /home/biocbuild/bbs-3.23-bioc/R/bin/R CMD INSTALL cn.mops StartedAt: 2025-11-20 15:15:27 -0500 (Thu, 20 Nov 2025) EndedAt: 2025-11-20 15:15:45 -0500 (Thu, 20 Nov 2025) EllapsedTime: 17.7 seconds RetCode: 0 Status: OK