Package: cn.mops Version: 1.55.1 Command: /Library/Frameworks/R.framework/Resources/bin/R CMD build --keep-empty-dirs --no-resave-data cn.mops StartedAt: 2025-10-16 16:10:18 -0400 (Thu, 16 Oct 2025) EndedAt: 2025-10-16 16:10:35 -0400 (Thu, 16 Oct 2025) EllapsedTime: 17.2 seconds RetCode: 0 Status: OK PackageFile: cn.mops_1.55.1.tar.gz PackageFileSize: 1.003 MiB