Package: cn.mops Version: 1.55.1 Command: rm -rf cn.mops.buildbin-libdir && mkdir cn.mops.buildbin-libdir && /Users/biocbuild/BBS/utils/build-universal.sh cn.mops_1.55.1.tar.gz /Library/Frameworks/R.framework/Resources/bin/R cn.mops.buildbin-libdir StartedAt: 2025-10-16 22:56:27 -0400 (Thu, 16 Oct 2025) EndedAt: 2025-10-16 22:56:35 -0400 (Thu, 16 Oct 2025) EllapsedTime: 8.2 seconds RetCode: 0 Status: OK PackageFile: cn.mops_1.55.1.tgz PackageFileSize: 1.389 MiB