Package: cmapR Version: 1.23.0 Command: /home/biocbuild/bbs-3.23-bioc/R/bin/R CMD INSTALL cmapR StartedAt: 2025-11-02 15:27:34 -0500 (Sun, 02 Nov 2025) EndedAt: 2025-11-02 15:27:58 -0500 (Sun, 02 Nov 2025) EllapsedTime: 24.2 seconds RetCode: 0 Status: OK