Package: cmapR Version: 1.23.0 Command: /home/biocbuild/bbs-3.23-bioc/R/bin/R CMD check --install=check:cmapR.install-out.txt --library=/home/biocbuild/bbs-3.23-bioc/R/site-library --timings cmapR_1.23.0.tar.gz StartedAt: 2025-11-06 21:59:28 -0500 (Thu, 06 Nov 2025) EndedAt: 2025-11-06 22:02:39 -0500 (Thu, 06 Nov 2025) EllapsedTime: 191.2 seconds RetCode: 0 Status: OK CheckDir: cmapR.Rcheck Warnings: 0