Package: clustifyr Version: 1.21.0 Command: /home/biocbuild/R/R/bin/R CMD check --install=check:clustifyr.install-out.txt --library=/home/biocbuild/R/R/site-library --no-vignettes --timings clustifyr_1.21.0.tar.gz StartedAt: 2025-10-14 06:48:49 -0000 (Tue, 14 Oct 2025) EndedAt: 2025-10-14 07:02:26 -0000 (Tue, 14 Oct 2025) EllapsedTime: 816.7 seconds RetCode: 0 Status: OK CheckDir: clustifyr.Rcheck Warnings: 0