Package: clustifyr Version: 1.23.0 Command: /home/biocbuild/bbs-3.23-bioc/R/bin/R CMD check --install=check:clustifyr.install-out.txt --library=/home/biocbuild/bbs-3.23-bioc/R/site-library --timings clustifyr_1.23.0.tar.gz StartedAt: 2025-11-04 21:58:58 -0500 (Tue, 04 Nov 2025) EndedAt: 2025-11-04 22:11:18 -0500 (Tue, 04 Nov 2025) EllapsedTime: 740.0 seconds RetCode: 0 Status: OK CheckDir: clustifyr.Rcheck Warnings: 0