Package: clustifyr Version: 1.23.0 Command: /home/biocbuild/bbs-3.23-bioc/R/bin/R CMD build --keep-empty-dirs --no-resave-data clustifyr StartedAt: 2025-11-03 16:49:03 -0500 (Mon, 03 Nov 2025) EndedAt: 2025-11-03 16:49:59 -0500 (Mon, 03 Nov 2025) EllapsedTime: 56.0 seconds RetCode: 0 Status: OK PackageFile: clustifyr_1.23.0.tar.gz PackageFileSize: 3.171 MiB