Package: clustifyr Version: 1.21.0 Command: /Library/Frameworks/R.framework/Resources/bin/R CMD check --install=check:clustifyr.install-out.txt --library=/Library/Frameworks/R.framework/Resources/library --no-vignettes --timings clustifyr_1.21.0.tar.gz StartedAt: 2025-10-10 20:45:36 -0400 (Fri, 10 Oct 2025) EndedAt: 2025-10-10 20:58:34 -0400 (Fri, 10 Oct 2025) EllapsedTime: 778.0 seconds RetCode: 0 Status: OK CheckDir: clustifyr.Rcheck Warnings: 0