Package: clusterStab Version: 1.81.0 Command: /home/biocbuild/R/R/bin/R CMD INSTALL clusterStab StartedAt: 2025-10-02 20:32:49 -0000 (Thu, 02 Oct 2025) EndedAt: 2025-10-02 20:32:55 -0000 (Thu, 02 Oct 2025) EllapsedTime: 6.7 seconds RetCode: 0 Status: OK