Package: clusterStab Version: 1.81.0 Command: /home/biocbuild/R/R/bin/R CMD build --keep-empty-dirs --no-resave-data clusterStab StartedAt: 2025-10-02 22:52:15 -0000 (Thu, 02 Oct 2025) EndedAt: 2025-10-02 22:52:31 -0000 (Thu, 02 Oct 2025) EllapsedTime: 16.0 seconds RetCode: 0 Status: OK PackageFile: clusterStab_1.81.0.tar.gz PackageFileSize: 178.6 KiB