Package: clusterStab Version: 1.83.0 Command: /home/biocbuild/bbs-3.23-bioc/R/bin/R CMD build --keep-empty-dirs --no-resave-data clusterStab StartedAt: 2025-10-31 17:06:26 -0400 (Fri, 31 Oct 2025) EndedAt: 2025-10-31 17:06:39 -0400 (Fri, 31 Oct 2025) EllapsedTime: 13.0 seconds RetCode: 0 Status: OK PackageFile: clusterStab_1.83.0.tar.gz PackageFileSize: 185.7 KiB