Package: clusterSeq Version: 1.35.0 Command: /home/biocbuild/bbs-3.23-bioc/R/bin/R CMD INSTALL clusterSeq StartedAt: 2025-11-04 15:15:56 -0500 (Tue, 04 Nov 2025) EndedAt: 2025-11-04 15:16:08 -0500 (Tue, 04 Nov 2025) EllapsedTime: 12.4 seconds RetCode: 0 Status: OK